BEGIN:VCALENDAR
VERSION:2.0
PRODID:-//jEvents 2.0 for Joomla//EN
CALSCALE:GREGORIAN
METHOD:PUBLISH
BEGIN:VTIMEZONE
TZID:America/Chicago
BEGIN:STANDARD
DTSTART:20190307T080000
RDATE:20190310T030000
TZOFFSETFROM:-0500
TZOFFSETTO:-0600
TZNAME:America/Chicago CST
END:STANDARD
BEGIN:STANDARD
DTSTART:20191103T010000
RDATE:20200308T030000
TZOFFSETFROM:-0500
TZOFFSETTO:-0600
TZNAME:America/Chicago CST
END:STANDARD
BEGIN:STANDARD
DTSTART:20201101T010000
RDATE:20210314T030000
TZOFFSETFROM:-0500
TZOFFSETTO:-0600
TZNAME:America/Chicago CST
END:STANDARD
BEGIN:DAYLIGHT
DTSTART:20190310T030000
RDATE:20191103T010000
TZOFFSETFROM:-0600
TZOFFSETTO:-0500
TZNAME:America/Chicago CDT
END:DAYLIGHT
BEGIN:DAYLIGHT
DTSTART:20200308T030000
RDATE:20201101T010000
TZOFFSETFROM:-0600
TZOFFSETTO:-0500
TZNAME:America/Chicago CDT
END:DAYLIGHT
END:VTIMEZONE
BEGIN:VEVENT
UID:dee356f2f45fac595ec533366f9e23eb
CATEGORIES:Events
SUMMARY:TCA Train Show, Ponchatoula
LOCATION:325 E. Pine St., Ponchatoula, LA 70454
DESCRIPTION;ENCODING=QUOTED-PRINTABLE:<div style="padding: 1pt 4pt; border: 1pt solid windowtext;"><p style="padd
 ing: 0in; border: medium; margin-bottom: 0pt;"><strong><span style="font-fa
 mily: 'Arial Narrow',sans-serif; font-size: 12pt;">Saturday, March 7, 2020<
 /span></strong></p><p style="padding: 0in; border: medium; margin-bottom: 0
 pt;"><span style="font-family: 'Arial Narrow',sans-serif; font-size: 12pt;"
 >TCA Train Show, Ponchatoula</span></p><p style="padding: 0in; border: medi
 um; margin-bottom: 0pt;"><span style="font-family: 'Arial Narrow',sans-seri
 f; font-size: 12pt;">First Baptist Church Gym</span></p><p style="padding: 
 0in; border: medium; margin-bottom: 0pt;"><span style="font-family: 'Arial 
 Narrow',sans-serif; font-size: 12pt;">325 E. Pine St., Ponchatoula, LA 7045
 4</span></p><p style="padding: 0in; border: medium;"><span style="font-fami
 ly: 'Arial Narrow',sans-serif; font-size: 12pt;">9:00 AM til 3:00 PM</span>
 </p></div>
DTSTAMP:20260423T224355Z
DTSTART;TZID=America/Chicago:20200307T080000
DTEND;TZID=America/Chicago:20200307T150000
SEQUENCE:0
TRANSP:OPAQUE
END:VEVENT
END:VCALENDAR