BEGIN:VCALENDAR
VERSION:2.0
PRODID:-//jEvents 2.0 for Joomla//EN
CALSCALE:GREGORIAN
METHOD:PUBLISH
BEGIN:VTIMEZONE
TZID:America/Chicago
BEGIN:STANDARD
DTSTART:20190117T100000
RDATE:20190310T030000
TZOFFSETFROM:-0500
TZOFFSETTO:-0600
TZNAME:America/Chicago CST
END:STANDARD
BEGIN:STANDARD
DTSTART:20191103T010000
RDATE:20200308T030000
TZOFFSETFROM:-0500
TZOFFSETTO:-0600
TZNAME:America/Chicago CST
END:STANDARD
BEGIN:STANDARD
DTSTART:20201101T010000
RDATE:20210314T030000
TZOFFSETFROM:-0500
TZOFFSETTO:-0600
TZNAME:America/Chicago CST
END:STANDARD
BEGIN:DAYLIGHT
DTSTART:20190310T030000
RDATE:20191103T010000
TZOFFSETFROM:-0600
TZOFFSETTO:-0500
TZNAME:America/Chicago CDT
END:DAYLIGHT
BEGIN:DAYLIGHT
DTSTART:20200308T030000
RDATE:20201101T010000
TZOFFSETFROM:-0600
TZOFFSETTO:-0500
TZNAME:America/Chicago CDT
END:DAYLIGHT
END:VTIMEZONE
BEGIN:VEVENT
UID:2eea5b7bf90aa0d29610ca7b555e0b47
CATEGORIES:Events
SUMMARY:Train Day at the Goodwood Baton Rouge Main LIbrary, Baton Rouge
LOCATION:Goodwood Baton Rouge Main Library, 7711 Goodwood Blvd , Baton Rouge, LA 708
 17
DESCRIPTION;ENCODING=QUOTED-PRINTABLE:<div style="padding: 1pt 4pt; border: 1pt solid windowtext;"><p style="padd
 ing: 0in; border: medium; margin-bottom: 0pt;"><strong><span style="font-fa
 mily: 'Arial Narrow',sans-serif; font-size: 12pt;">Saturday, January 18. 20
 20</span></strong></p><p style="padding: 0in; border: medium; margin-bottom
 : 0pt;"><span style="font-family: 'Arial Narrow',sans-serif; font-size: 12p
 t;">Train Day @ Goodwood Baton Rouge Main Library</span></p><p style="paddi
 ng: 0in; border: medium; margin-bottom: 0pt;"><span style="font-family: 'Ar
 ial Narrow',sans-serif; font-size: 12pt;">7711 Goodwood Blvd <span style="f
 ont-family: 'Arial Narrow',sans-serif; font-size: 12pt;">, Baton Rouge, LA 
 70817</span></span></p></div><p><span style="font-family: 'Arial Narrow',sa
 ns-serif; font-size: 12pt;">10:00 AM til 3:00 PM</span></p>
DTSTAMP:20260423T224355Z
DTSTART;TZID=America/Chicago:20200118T100000
DTEND;TZID=America/Chicago:20200118T150000
SEQUENCE:0
TRANSP:OPAQUE
END:VEVENT
END:VCALENDAR