BEGIN:VCALENDAR
VERSION:2.0
PRODID:-//jEvents 2.0 for Joomla//EN
CALSCALE:GREGORIAN
METHOD:PUBLISH
BEGIN:VTIMEZONE
TZID:America/Chicago
BEGIN:STANDARD
DTSTART:20171214T110000
RDATE:20180311T030000
TZOFFSETFROM:-0500
TZOFFSETTO:-0600
TZNAME:America/Chicago CST
END:STANDARD
BEGIN:STANDARD
DTSTART:20181104T010000
RDATE:20190310T030000
TZOFFSETFROM:-0500
TZOFFSETTO:-0600
TZNAME:America/Chicago CST
END:STANDARD
BEGIN:STANDARD
DTSTART:20191103T010000
RDATE:20200308T030000
TZOFFSETFROM:-0500
TZOFFSETTO:-0600
TZNAME:America/Chicago CST
END:STANDARD
BEGIN:STANDARD
DTSTART:20201101T010000
RDATE:20210314T030000
TZOFFSETFROM:-0500
TZOFFSETTO:-0600
TZNAME:America/Chicago CST
END:STANDARD
BEGIN:DAYLIGHT
DTSTART:20180311T030000
RDATE:20181104T010000
TZOFFSETFROM:-0600
TZOFFSETTO:-0500
TZNAME:America/Chicago CDT
END:DAYLIGHT
BEGIN:DAYLIGHT
DTSTART:20190310T030000
RDATE:20191103T010000
TZOFFSETFROM:-0600
TZOFFSETTO:-0500
TZNAME:America/Chicago CDT
END:DAYLIGHT
BEGIN:DAYLIGHT
DTSTART:20200308T030000
RDATE:20201101T010000
TZOFFSETFROM:-0600
TZOFFSETTO:-0500
TZNAME:America/Chicago CDT
END:DAYLIGHT
END:VTIMEZONE
BEGIN:VEVENT
UID:09cc61e19ea4f2c8aeca79aa34e40b5b
CATEGORIES:Open House
SUMMARY:Christmas on the Crescent Lines Open House
DESCRIPTION;ENCODING=QUOTED-PRINTABLE:\n\n \nSaturday December 15 & Sunday December 16, from 11 AM until 5 pm con
 tinue our 2018 Christmas on the Crescent Lines Open House dates.\n\n\n \nSe
 e early steam locomotives on up to modern diesel locomotives running on the
  Crescent Lines. \nCome see new construction and progress on the Crescent L
 ines. \nWe have a kid’s layout for children to run trains on themselves.  \
 n\n\n \nThe Crescent City Model Railroad Club (CCMRC) is home to one of the
  largest and most detailed DCC HO scale layouts in the Gulf South. We are l
 ocated in Metairie, Louisiana, just outside of New Orleans (aka the Crescen
 t City). We model a fictitious railroad, called the Crescent Lines, whose m
 ain lines carry freight and passengers from the Crescent City to Natchez an
 d all the way to Kansas City and beyond. \n\n\n \nHave fun looking for hidd
 en details with our scavenger hunt! \n\n\n \nFun for all ages. \n\n\n \nSee
  the New Orleans Saints Super Bowl Train, Steam Trains, Freight Trains, Amt
 rak and lots more! \n\n\n \nCheck out our website below and be sure to “Lik
 e” us on Facebook. \n\n\n \nLocation:Crescent City Model Railroad Club601 N
 . Lester AveMetairie, LA 70003\n\n\n \n11 am- 5 pm \n\n\n \nAdmission Fees:
 \n\n\n \nDonations are $7 for adults, $3 for children between 6 and 12, chi
 ldren under 5 years old are free! \n\n\n \nContact Information: 504-737-372
 3 \n\n\n \nThis email address is being protected from spambots. You need Ja
 vaScript enabled to view it.
 //
  \n\n\n \nWebsite: http://www.ccmrc.com\n
 \n\n \n
DTSTAMP:20260424T152223Z
DTSTART;TZID=America/Chicago:20181215T110000
DTEND;TZID=America/Chicago:20181215T170000
SEQUENCE:0
TRANSP:OPAQUE
END:VEVENT
END:VCALENDAR