BEGIN:VCALENDAR
VERSION:2.0
PRODID:-//jEvents 2.0 for Joomla//EN
CALSCALE:GREGORIAN
METHOD:PUBLISH
BEGIN:VTIMEZONE
TZID:America/Chicago
BEGIN:STANDARD
DTSTART:20171123T110000
RDATE:20180311T030000
TZOFFSETFROM:-0500
TZOFFSETTO:-0600
TZNAME:America/Chicago CST
END:STANDARD
BEGIN:STANDARD
DTSTART:20181104T010000
RDATE:20190310T030000
TZOFFSETFROM:-0500
TZOFFSETTO:-0600
TZNAME:America/Chicago CST
END:STANDARD
BEGIN:STANDARD
DTSTART:20191103T010000
RDATE:20200308T030000
TZOFFSETFROM:-0500
TZOFFSETTO:-0600
TZNAME:America/Chicago CST
END:STANDARD
BEGIN:STANDARD
DTSTART:20201101T010000
RDATE:20210314T030000
TZOFFSETFROM:-0500
TZOFFSETTO:-0600
TZNAME:America/Chicago CST
END:STANDARD
BEGIN:DAYLIGHT
DTSTART:20180311T030000
RDATE:20181104T010000
TZOFFSETFROM:-0600
TZOFFSETTO:-0500
TZNAME:America/Chicago CDT
END:DAYLIGHT
BEGIN:DAYLIGHT
DTSTART:20190310T030000
RDATE:20191103T010000
TZOFFSETFROM:-0600
TZOFFSETTO:-0500
TZNAME:America/Chicago CDT
END:DAYLIGHT
BEGIN:DAYLIGHT
DTSTART:20200308T030000
RDATE:20201101T010000
TZOFFSETFROM:-0600
TZOFFSETTO:-0500
TZNAME:America/Chicago CDT
END:DAYLIGHT
END:VTIMEZONE
BEGIN:VEVENT
UID:eb29cdd7bfab4e9ba2c204b327b45640
CATEGORIES:Open House
SUMMARY:Fall on the Crescent Lines Open House
DESCRIPTION;ENCODING=QUOTED-PRINTABLE:Saturday November 24, from 11 AM until 5 pm is our 2018 Fall on the Crescen
 t Lines Open House. See early steam locomotives on up to modern diesel loco
 motives running on the Crescent Lines.  Come see new construction and progr
 ess on the Crescent LInes. We have a kid’s layout for children to run train
 s on themselves.  \nThe Crescent City Model Railroad Club (CCMRC) is home t
 o one of the largest and most detailed DCC HO scale layouts in the Gulf Sou
 th. We are located in Metairie, Louisiana, just outside of New Orleans (aka
  the Crescent City). We model a fictitious railroad, called the Crescent Li
 nes, whose main lines carry freight and passengers to and from the beautifu
 l south.\nCome see the latest updates and projects and ride the Crescent Li
 nes. \nHave fun looking for hidden details with our scavenger hunt! \nFun f
 or all ages. \nSee the New Orleans Saints Super Bowl Train, Steam Trains, F
 reight Trains, Amtrak and lots more! \nCheck out our website below and be s
 ure to “Like” us on Facebook. \nLocation:  Crescent City Model Railroad Clu
 b  601 N. Lester Ave  Metairie, LA 70003 \n \n 11 am- 5 pm \n \nAdmission F
 ees:\n Donations are $7 for adults, $3 for children between 6 and 12, child
 ren under 5 years old are free! \n \nContact Information: 504-737-3723 \n \
 nThis email address is being protected from spambots. You need JavaScript e
 nabled to view it.
 //
  \n \nWebsite: http://www.ccmrc.com\n
DTSTAMP:20260424T180233Z
DTSTART;TZID=America/Chicago:20181124T110000
DTEND;TZID=America/Chicago:20181124T170000
SEQUENCE:0
TRANSP:OPAQUE
END:VEVENT
END:VCALENDAR