BEGIN:VCALENDAR
VERSION:2.0
PRODID:-//jEvents 2.0 for Joomla//EN
CALSCALE:GREGORIAN
METHOD:PUBLISH
BEGIN:VTIMEZONE
TZID:America/Chicago
BEGIN:STANDARD
DTSTART:20171105T010000
RDATE:20180311T030000
TZOFFSETFROM:-0500
TZOFFSETTO:-0600
TZNAME:America/Chicago CST
END:STANDARD
BEGIN:STANDARD
DTSTART:20181104T010000
RDATE:20190310T030000
TZOFFSETFROM:-0500
TZOFFSETTO:-0600
TZNAME:America/Chicago CST
END:STANDARD
BEGIN:STANDARD
DTSTART:20191103T010000
RDATE:20200308T030000
TZOFFSETFROM:-0500
TZOFFSETTO:-0600
TZNAME:America/Chicago CST
END:STANDARD
BEGIN:STANDARD
DTSTART:20201101T010000
RDATE:20210314T030000
TZOFFSETFROM:-0500
TZOFFSETTO:-0600
TZNAME:America/Chicago CST
END:STANDARD
BEGIN:DAYLIGHT
DTSTART:20170511T120000
RDATE:20171105T010000
TZOFFSETFROM:-0600
TZOFFSETTO:-0500
TZNAME:America/Chicago CDT
END:DAYLIGHT
BEGIN:DAYLIGHT
DTSTART:20180311T030000
RDATE:20181104T010000
TZOFFSETFROM:-0600
TZOFFSETTO:-0500
TZNAME:America/Chicago CDT
END:DAYLIGHT
BEGIN:DAYLIGHT
DTSTART:20190310T030000
RDATE:20191103T010000
TZOFFSETFROM:-0600
TZOFFSETTO:-0500
TZNAME:America/Chicago CDT
END:DAYLIGHT
BEGIN:DAYLIGHT
DTSTART:20200308T030000
RDATE:20201101T010000
TZOFFSETFROM:-0600
TZOFFSETTO:-0500
TZNAME:America/Chicago CDT
END:DAYLIGHT
END:VTIMEZONE
BEGIN:VEVENT
UID:9eb172c8c58d982063fbf873e834b533
CATEGORIES:Open House
SUMMARY:National Train Day Open House is May 12 from 12 noon to 6 pm
LOCATION: Crescent City Model Railroad Club 601 N. Lester Ave Metairie, LA 70003
DESCRIPTION;ENCODING=QUOTED-PRINTABLE:Saturday May 12th from 12 noon until 6 pm is our 2018 National Train Day Op
 en House. See early steam locomotives on up to modern diesel locomotives ru
 nning on the Crescent Lines.  We have also been expanding our staging so yo
 u can see what all the work we have been doing is all about.  We have a kid
 ’s layout for children to run trains on and a Timesaver switching layout th
 at you can test your switching skills on and operate the trains yourself. \
 nThe Crescent City Model Railroad Club (CCMRC) is home to one of the larges
 t and most detailed DCC HO scale layouts in the Gulf South. We are located 
 in Metairie, Louisiana, just outside of New Orleans (aka the Crescent City)
 . We model a fictitious railroad, called the Crescent Lines, whose main lin
 es carry freight and passengers to and from the beautiful south.\nCome see 
 the latest updates and projects and ride the Crescent Lines. \nHave fun loo
 king for hidden details with our scavenger hunt! \nFun for all ages. \nSee 
 the New Orleans Saints Super Bowl Train, Steam Trains, Freight Trains, Amtr
 ak and lots more! \nCheck out our website below and be sure to “Like” us on
  Facebook. \nLocation:\n Crescent City Model Railroad Club\n 601 N. Lester 
 Ave\n Metairie, LA 70003\n\n \n 12 Noon- 6 PM \n \nAdmission Fees:\n\n Dona
 tions are $7 for adults, $3 for children between 6 and 12, children under 5
  years old are free! \n \nContact Information:\n 504) 737-3723 \n This emai
 l address is being protected from spambots. You need JavaScript enabled to 
 view it.
 //
  \n \nWebsite:\n http://www.ccmrc.com\n \n\n
CONTACT:This email address is being protected from spambots. You need JavaScript enabled to view it.
 //
    or call 504-737-3723
X-EXTRAINFO:We suggest bringing a step stool for small children to stand on.
DTSTAMP:20260424T180233Z
DTSTART;TZID=America/Chicago:20180512T120000
DTEND;TZID=America/Chicago:20180512T180000
SEQUENCE:0
TRANSP:OPAQUE
END:VEVENT
END:VCALENDAR